Package: plier Version: 1.76.0 Command: rm -rf plier.buildbin-libdir && mkdir plier.buildbin-libdir && F:\biocbuild\bbs-3.20-bioc\R\bin\R.exe CMD INSTALL --build --library=plier.buildbin-libdir plier_1.76.0.tar.gz StartedAt: 2025-02-04 09:11:34 -0500 (Tue, 04 Feb 2025) EndedAt: 2025-02-04 09:11:57 -0500 (Tue, 04 Feb 2025) EllapsedTime: 22.7 seconds RetCode: 0 Status: OK PackageFile: plier_1.76.0.zip PackageFileSize: 99.2 KiB