Package: plier Version: 1.76.0 Command: /home/biocbuild/R/R/bin/R CMD INSTALL plier StartedAt: 2025-02-03 20:24:28 -0000 (Mon, 03 Feb 2025) EndedAt: 2025-02-03 20:24:51 -0000 (Mon, 03 Feb 2025) EllapsedTime: 23.9 seconds RetCode: 0 Status: OK