Package: plotgardener Version: 1.12.0 Command: rm -rf plotgardener.buildbin-libdir && mkdir plotgardener.buildbin-libdir && /Users/biocbuild/BBS/utils/build-universal.sh plotgardener_1.12.0.tar.gz /Library/Frameworks/R.framework/Resources/bin/R plotgardener.buildbin-libdir StartedAt: 2025-02-05 17:08:50 -0500 (Wed, 05 Feb 2025) EndedAt: 2025-02-05 17:09:52 -0500 (Wed, 05 Feb 2025) EllapsedTime: 62.1 seconds RetCode: 0 Status: OK PackageFile: plotgardener_1.12.0.tgz PackageFileSize: 3.662 MiB