Package: plotgardener Version: 1.12.0 Command: /Library/Frameworks/R.framework/Resources/bin/R CMD build --keep-empty-dirs --no-resave-data plotgardener StartedAt: 2025-02-04 05:36:27 -0500 (Tue, 04 Feb 2025) EndedAt: 2025-02-04 05:37:52 -0500 (Tue, 04 Feb 2025) EllapsedTime: 84.2 seconds RetCode: 0 Status: OK PackageFile: plotgardener_1.12.0.tar.gz PackageFileSize: 2.848 MiB