Package: plotgardener Version: 1.12.0 Command: /Library/Frameworks/R.framework/Resources/bin/R CMD INSTALL plotgardener StartedAt: 2025-02-10 16:20:00 -0500 (Mon, 10 Feb 2025) EndedAt: 2025-02-10 16:20:56 -0500 (Mon, 10 Feb 2025) EllapsedTime: 56.5 seconds RetCode: 0 Status: OK