Package: plotgardener Version: 1.12.0 Command: /Library/Frameworks/R.framework/Resources/bin/R CMD check --install=check:plotgardener.install-out.txt --library=/Library/Frameworks/R.framework/Resources/library --no-vignettes --timings plotgardener_1.12.0.tar.gz StartedAt: 2025-02-11 08:27:17 -0500 (Tue, 11 Feb 2025) EndedAt: 2025-02-11 08:39:55 -0500 (Tue, 11 Feb 2025) EllapsedTime: 757.5 seconds RetCode: 0 Status: OK CheckDir: plotgardener.Rcheck Warnings: 0