Package: plotgardener Version: 1.12.0 Command: chmod a+r plotgardener -R && F:\biocbuild\bbs-3.20-bioc\R\bin\R.exe CMD build --keep-empty-dirs --no-resave-data plotgardener StartedAt: 2025-02-03 21:16:22 -0500 (Mon, 03 Feb 2025) EndedAt: 2025-02-03 21:21:13 -0500 (Mon, 03 Feb 2025) EllapsedTime: 290.7 seconds RetCode: 0 Status: OK PackageFile: plotgardener_1.12.0.tar.gz PackageFileSize: 2.516 MiB