Package: plotgardener Version: 1.12.0 Command: /home/biocbuild/R/R/bin/R CMD build --keep-empty-dirs --no-resave-data plotgardener StartedAt: 2025-02-11 01:34:19 -0000 (Tue, 11 Feb 2025) EndedAt: 2025-02-11 01:35:46 -0000 (Tue, 11 Feb 2025) EllapsedTime: 87.0 seconds RetCode: 0 Status: OK PackageFile: plotgardener_1.12.0.tar.gz PackageFileSize: 2.523 MiB