Package: plyxp Version: 1.0.0 Command: /Library/Frameworks/R.framework/Resources/bin/R CMD build --keep-empty-dirs --no-resave-data plyxp StartedAt: 2025-02-11 05:35:25 -0500 (Tue, 11 Feb 2025) EndedAt: 2025-02-11 05:36:18 -0500 (Tue, 11 Feb 2025) EllapsedTime: 52.4 seconds RetCode: 1 Status: ERROR PackageFile: None PackageFileSize: NA