Package: plyxp Version: 1.0.0 Command: /home/biocbuild/R/R/bin/R CMD INSTALL plyxp StartedAt: 2025-02-10 20:18:48 -0000 (Mon, 10 Feb 2025) EndedAt: 2025-02-10 20:19:30 -0000 (Mon, 10 Feb 2025) EllapsedTime: 42.1 seconds RetCode: 0 Status: OK