Package: pmm Version: 1.38.0 Command: /home/biocbuild/R/R/bin/R CMD build --keep-empty-dirs --no-resave-data pmm StartedAt: 2025-02-04 01:53:31 -0000 (Tue, 04 Feb 2025) EndedAt: 2025-02-04 01:53:59 -0000 (Tue, 04 Feb 2025) EllapsedTime: 28.0 seconds RetCode: 0 Status: OK PackageFile: pmm_1.38.0.tar.gz PackageFileSize: 764.9 KiB