Package: pmm Version: 1.38.0 Command: /home/biocbuild/R/R/bin/R CMD check --install=check:pmm.install-out.txt --library=/home/biocbuild/R/R/site-library --no-vignettes --timings pmm_1.38.0.tar.gz StartedAt: 2025-02-04 09:55:39 -0000 (Tue, 04 Feb 2025) EndedAt: 2025-02-04 09:57:14 -0000 (Tue, 04 Feb 2025) EllapsedTime: 95.2 seconds RetCode: 0 Status: OK CheckDir: pmm.Rcheck Warnings: 0