Package: podkat Version: 1.38.0 Command: /Library/Frameworks/R.framework/Resources/bin/R CMD build --keep-empty-dirs --no-resave-data podkat StartedAt: 2025-02-04 05:38:53 -0500 (Tue, 04 Feb 2025) EndedAt: 2025-02-04 05:42:08 -0500 (Tue, 04 Feb 2025) EllapsedTime: 194.4 seconds RetCode: 0 Status: OK PackageFile: podkat_1.38.0.tar.gz PackageFileSize: 1.09 MiB