Package: podkat Version: 1.38.0 Command: /Library/Frameworks/R.framework/Resources/bin/R CMD check --install=check:podkat.install-out.txt --library=/Library/Frameworks/R.framework/Resources/library --no-vignettes --timings podkat_1.38.0.tar.gz StartedAt: 2025-02-05 05:44:17 -0500 (Wed, 05 Feb 2025) EndedAt: 2025-02-05 05:50:27 -0500 (Wed, 05 Feb 2025) EllapsedTime: 369.6 seconds RetCode: 0 Status: OK CheckDir: podkat.Rcheck Warnings: 0