Package: podkat Version: 1.38.0 Command: /Library/Frameworks/R.framework/Resources/bin/R CMD INSTALL podkat StartedAt: 2024-11-08 15:28:23 -0500 (Fri, 08 Nov 2024) EndedAt: 2024-11-08 15:28:47 -0500 (Fri, 08 Nov 2024) EllapsedTime: 23.8 seconds RetCode: 0 Status: OK