Package: podkat Version: 1.38.0 Command: /home/biocbuild/bbs-3.20-bioc/R/bin/R CMD check --install=check:podkat.install-out.txt --library=/home/biocbuild/bbs-3.20-bioc/R/site-library --timings podkat_1.38.0.tar.gz StartedAt: 2025-02-04 01:17:23 -0500 (Tue, 04 Feb 2025) EndedAt: 2025-02-04 01:23:40 -0500 (Tue, 04 Feb 2025) EllapsedTime: 377.4 seconds RetCode: 0 Status: OK CheckDir: podkat.Rcheck Warnings: 0