Package: podkat Version: 1.38.0 Command: /home/biocbuild/bbs-3.20-bioc/R/bin/R CMD INSTALL podkat StartedAt: 2025-02-03 15:32:59 -0500 (Mon, 03 Feb 2025) EndedAt: 2025-02-03 15:34:14 -0500 (Mon, 03 Feb 2025) EllapsedTime: 74.8 seconds RetCode: 0 Status: OK