Package: podkat Version: 1.38.0 Command: /home/biocbuild/R/R/bin/R CMD check --install=check:podkat.install-out.txt --library=/home/biocbuild/R/R/site-library --no-vignettes --timings podkat_1.38.0.tar.gz StartedAt: 2025-02-04 09:56:03 -0000 (Tue, 04 Feb 2025) EndedAt: 2025-02-04 10:02:06 -0000 (Tue, 04 Feb 2025) EllapsedTime: 363.5 seconds RetCode: 0 Status: OK CheckDir: podkat.Rcheck Warnings: 0