Package: pogos Version: 1.26.0 Command: /Library/Frameworks/R.framework/Resources/bin/R CMD INSTALL pogos StartedAt: 2025-01-30 16:04:08 -0500 (Thu, 30 Jan 2025) EndedAt: 2025-01-30 16:05:19 -0500 (Thu, 30 Jan 2025) EllapsedTime: 70.4 seconds RetCode: 0 Status: OK