Package: pogos Version: 1.26.0 Command: chmod a+r pogos -R && F:\biocbuild\bbs-3.20-bioc\R\bin\R.exe CMD build --keep-empty-dirs --no-resave-data pogos StartedAt: 2025-01-30 21:02:12 -0500 (Thu, 30 Jan 2025) EndedAt: 2025-01-30 21:03:09 -0500 (Thu, 30 Jan 2025) EllapsedTime: 57.7 seconds RetCode: 1 Status: ERROR PackageFile: None PackageFileSize: NA