Package: pogos Version: 1.26.0 Command: F:\biocbuild\bbs-3.20-bioc\R\bin\R.exe CMD INSTALL pogos StartedAt: 2025-02-03 16:31:55 -0500 (Mon, 03 Feb 2025) EndedAt: 2025-02-03 16:32:44 -0500 (Mon, 03 Feb 2025) EllapsedTime: 48.9 seconds RetCode: 0 Status: OK