Package: pogos Version: 1.26.0 Command: /home/biocbuild/R/R/bin/R CMD INSTALL pogos StartedAt: 2025-02-03 20:58:42 -0000 (Mon, 03 Feb 2025) EndedAt: 2025-02-03 20:59:23 -0000 (Mon, 03 Feb 2025) EllapsedTime: 41.3 seconds RetCode: 0 Status: OK