Package: polyester Version: 1.42.0 Command: /Library/Frameworks/R.framework/Resources/bin/R CMD build --keep-empty-dirs --no-resave-data polyester StartedAt: 2025-02-04 05:39:15 -0500 (Tue, 04 Feb 2025) EndedAt: 2025-02-04 05:39:53 -0500 (Tue, 04 Feb 2025) EllapsedTime: 37.9 seconds RetCode: 0 Status: OK PackageFile: polyester_1.42.0.tar.gz PackageFileSize: 1.814 MiB