Package: polyester Version: 1.42.0 Command: /Library/Frameworks/R.framework/Resources/bin/R CMD INSTALL polyester StartedAt: 2025-02-03 15:26:23 -0500 (Mon, 03 Feb 2025) EndedAt: 2025-02-03 15:26:36 -0500 (Mon, 03 Feb 2025) EllapsedTime: 13.4 seconds RetCode: 0 Status: OK