Package: polyester Version: 1.42.0 Command: /home/biocbuild/bbs-3.20-bioc/R/bin/R CMD build --keep-empty-dirs --no-resave-data --md5 polyester StartedAt: 2025-02-10 18:38:35 -0500 (Mon, 10 Feb 2025) EndedAt: 2025-02-10 18:39:01 -0500 (Mon, 10 Feb 2025) EllapsedTime: 26.0 seconds RetCode: 0 Status: OK PackageFile: polyester_1.42.0.tar.gz PackageFileSize: 1.817 MiB