Package: polyester Version: 1.42.0 Command: /home/biocbuild/bbs-3.20-bioc/R/bin/R CMD INSTALL polyester StartedAt: 2025-02-10 15:17:51 -0500 (Mon, 10 Feb 2025) EndedAt: 2025-02-10 15:18:02 -0500 (Mon, 10 Feb 2025) EllapsedTime: 10.7 seconds RetCode: 0 Status: OK