Package: polyester Version: 1.42.0 Command: F:\biocbuild\bbs-3.20-bioc\R\bin\R.exe CMD INSTALL polyester StartedAt: 2025-02-03 15:50:43 -0500 (Mon, 03 Feb 2025) EndedAt: 2025-02-03 15:51:13 -0500 (Mon, 03 Feb 2025) EllapsedTime: 29.4 seconds RetCode: 0 Status: OK