Package: polyester Version: 1.42.0 Command: /home/biocbuild/R/R/bin/R CMD build --keep-empty-dirs --no-resave-data polyester StartedAt: 2025-02-11 01:35:27 -0000 (Tue, 11 Feb 2025) EndedAt: 2025-02-11 01:36:01 -0000 (Tue, 11 Feb 2025) EllapsedTime: 34.0 seconds RetCode: 0 Status: OK PackageFile: polyester_1.42.0.tar.gz PackageFileSize: 1.814 MiB