Package: powerTCR Version: 1.26.0 Command: /Library/Frameworks/R.framework/Resources/bin/R CMD build --keep-empty-dirs --no-resave-data powerTCR StartedAt: 2025-02-04 05:40:20 -0500 (Tue, 04 Feb 2025) EndedAt: 2025-02-04 05:40:52 -0500 (Tue, 04 Feb 2025) EllapsedTime: 31.7 seconds RetCode: 0 Status: OK PackageFile: powerTCR_1.26.0.tar.gz PackageFileSize: 384.2 KiB