Package: powerTCR Version: 1.26.0 Command: rm -rf powerTCR.buildbin-libdir && mkdir powerTCR.buildbin-libdir && F:\biocbuild\bbs-3.20-bioc\R\bin\R.exe CMD INSTALL --build --library=powerTCR.buildbin-libdir powerTCR_1.26.0.tar.gz StartedAt: 2025-02-11 09:09:32 -0500 (Tue, 11 Feb 2025) EndedAt: 2025-02-11 09:09:50 -0500 (Tue, 11 Feb 2025) EllapsedTime: 17.3 seconds RetCode: 0 Status: OK PackageFile: powerTCR_1.26.0.zip PackageFileSize: 406.2 KiB