Package: powerTCR Version: 1.26.0 Command: chmod a+r powerTCR -R && F:\biocbuild\bbs-3.20-bioc\R\bin\R.exe CMD build --keep-empty-dirs --no-resave-data powerTCR StartedAt: 2025-02-03 21:19:04 -0500 (Mon, 03 Feb 2025) EndedAt: 2025-02-03 21:20:33 -0500 (Mon, 03 Feb 2025) EllapsedTime: 89.0 seconds RetCode: 0 Status: OK PackageFile: powerTCR_1.26.0.tar.gz PackageFileSize: 320 KiB