Package: preciseTAD Version: 1.16.0 Command: rm -rf preciseTAD.buildbin-libdir && mkdir preciseTAD.buildbin-libdir && /Users/biocbuild/BBS/utils/build-universal.sh preciseTAD_1.16.0.tar.gz /Library/Frameworks/R.framework/Resources/bin/R preciseTAD.buildbin-libdir StartedAt: 2025-02-04 13:49:17 -0500 (Tue, 04 Feb 2025) EndedAt: 2025-02-04 13:51:57 -0500 (Tue, 04 Feb 2025) EllapsedTime: 159.8 seconds RetCode: 0 Status: OK PackageFile: preciseTAD_1.16.0.tgz PackageFileSize: 4.803 MiB