Package: preciseTAD Version: 1.16.0 Command: /Library/Frameworks/R.framework/Resources/bin/R CMD build --keep-empty-dirs --no-resave-data preciseTAD StartedAt: 2025-02-03 21:22:43 -0500 (Mon, 03 Feb 2025) EndedAt: 2025-02-03 21:29:43 -0500 (Mon, 03 Feb 2025) EllapsedTime: 420.6 seconds RetCode: 0 Status: OK PackageFile: preciseTAD_1.16.0.tar.gz PackageFileSize: 4.071 MiB