Package: preciseTAD Version: 1.16.0 Command: /Library/Frameworks/R.framework/Resources/bin/R CMD check --install=check:preciseTAD.install-out.txt --library=/Library/Frameworks/R.framework/Resources/library --no-vignettes --timings preciseTAD_1.16.0.tar.gz StartedAt: 2025-02-04 08:11:05 -0500 (Tue, 04 Feb 2025) EndedAt: 2025-02-04 08:33:11 -0500 (Tue, 04 Feb 2025) EllapsedTime: 1325.8 seconds RetCode: 0 Status: OK CheckDir: preciseTAD.Rcheck Warnings: 0