Package: preciseTAD Version: 1.16.0 Command: /home/biocbuild/bbs-3.20-bioc/R/bin/R CMD build --keep-empty-dirs --no-resave-data --md5 preciseTAD StartedAt: 2025-02-03 18:46:36 -0500 (Mon, 03 Feb 2025) EndedAt: 2025-02-03 18:50:28 -0500 (Mon, 03 Feb 2025) EllapsedTime: 232.3 seconds RetCode: 0 Status: OK PackageFile: preciseTAD_1.16.0.tar.gz PackageFileSize: 4.107 MiB