Package: preciseTAD Version: 1.16.0 Command: rm -rf preciseTAD.buildbin-libdir && mkdir preciseTAD.buildbin-libdir && F:\biocbuild\bbs-3.20-bioc\R\bin\R.exe CMD INSTALL --build --library=preciseTAD.buildbin-libdir preciseTAD_1.16.0.tar.gz StartedAt: 2025-02-11 09:09:50 -0500 (Tue, 11 Feb 2025) EndedAt: 2025-02-11 09:10:51 -0500 (Tue, 11 Feb 2025) EllapsedTime: 61.8 seconds RetCode: 0 Status: OK PackageFile: preciseTAD_1.16.0.zip PackageFileSize: 4.762 MiB