Package: primirTSS Version: 1.24.0 Command: /Library/Frameworks/R.framework/Resources/bin/R CMD check --install=check:primirTSS.install-out.txt --library=/Library/Frameworks/R.framework/Resources/library --no-vignettes --timings primirTSS_1.24.0.tar.gz StartedAt: 2025-02-05 05:54:11 -0500 (Wed, 05 Feb 2025) EndedAt: 2025-02-05 05:59:13 -0500 (Wed, 05 Feb 2025) EllapsedTime: 301.5 seconds RetCode: 0 Status: WARNINGS CheckDir: primirTSS.Rcheck Warnings: 1