Package: primirTSS Version: 1.24.0 Command: /Library/Frameworks/R.framework/Resources/bin/R CMD build --keep-empty-dirs --no-resave-data primirTSS StartedAt: 2025-02-03 21:22:56 -0500 (Mon, 03 Feb 2025) EndedAt: 2025-02-03 21:24:59 -0500 (Mon, 03 Feb 2025) EllapsedTime: 122.8 seconds RetCode: 0 Status: OK PackageFile: primirTSS_1.24.0.tar.gz PackageFileSize: 3.662 MiB