Package: primirTSS Version: 1.24.0 Command: /home/biocbuild/bbs-3.20-bioc/R/bin/R CMD build --keep-empty-dirs --no-resave-data --md5 primirTSS StartedAt: 2025-02-03 18:46:47 -0500 (Mon, 03 Feb 2025) EndedAt: 2025-02-03 18:47:46 -0500 (Mon, 03 Feb 2025) EllapsedTime: 59.1 seconds RetCode: 0 Status: OK PackageFile: primirTSS_1.24.0.tar.gz PackageFileSize: 3.664 MiB