Package: primirTSS Version: 1.24.0 Command: rm -rf primirTSS.buildbin-libdir && mkdir primirTSS.buildbin-libdir && F:\biocbuild\bbs-3.20-bioc\R\bin\R.exe CMD INSTALL --build --library=primirTSS.buildbin-libdir primirTSS_1.24.0.tar.gz StartedAt: 2025-02-04 09:12:36 -0500 (Tue, 04 Feb 2025) EndedAt: 2025-02-04 09:16:26 -0500 (Tue, 04 Feb 2025) EllapsedTime: 230.1 seconds RetCode: 0 Status: OK PackageFile: primirTSS_1.24.0.zip PackageFileSize: 3.777 MiB