Package: primirTSS Version: 1.24.0 Command: F:\biocbuild\bbs-3.20-bioc\R\bin\R.exe CMD check --no-multiarch --install=check:primirTSS.install-out.txt --library=F:\biocbuild\bbs-3.20-bioc\R\library --no-vignettes --timings primirTSS_1.24.0.tar.gz StartedAt: 2025-02-04 05:02:07 -0500 (Tue, 04 Feb 2025) EndedAt: 2025-02-04 05:07:25 -0500 (Tue, 04 Feb 2025) EllapsedTime: 318.1 seconds RetCode: 0 Status: WARNINGS CheckDir: primirTSS.Rcheck Warnings: 1