Package: proActiv Version: 1.16.0 Command: rm -rf proActiv.buildbin-libdir && mkdir proActiv.buildbin-libdir && /Users/biocbuild/BBS/utils/build-universal.sh proActiv_1.16.0.tar.gz /Library/Frameworks/R.framework/Resources/bin/R proActiv.buildbin-libdir StartedAt: 2025-02-04 13:49:28 -0500 (Tue, 04 Feb 2025) EndedAt: 2025-02-04 13:51:39 -0500 (Tue, 04 Feb 2025) EllapsedTime: 131.0 seconds RetCode: 0 Status: OK PackageFile: proActiv_1.16.0.tgz PackageFileSize: 2.791 MiB