Package: proActiv Version: 1.16.0 Command: /Library/Frameworks/R.framework/Resources/bin/R CMD build --keep-empty-dirs --no-resave-data proActiv StartedAt: 2025-02-10 21:25:06 -0500 (Mon, 10 Feb 2025) EndedAt: 2025-02-10 21:27:12 -0500 (Mon, 10 Feb 2025) EllapsedTime: 126.5 seconds RetCode: 0 Status: OK PackageFile: proActiv_1.16.0.tar.gz PackageFileSize: 2.684 MiB