Package: proActiv Version: 1.16.0 Command: /Library/Frameworks/R.framework/Resources/bin/R CMD check --install=check:proActiv.install-out.txt --library=/Library/Frameworks/R.framework/Resources/library --no-vignettes --timings proActiv_1.16.0.tar.gz StartedAt: 2025-02-04 08:12:36 -0500 (Tue, 04 Feb 2025) EndedAt: 2025-02-04 08:24:51 -0500 (Tue, 04 Feb 2025) EllapsedTime: 735.2 seconds RetCode: 0 Status: OK CheckDir: proActiv.Rcheck Warnings: 0