Package: proActiv Version: 1.16.0 Command: /Library/Frameworks/R.framework/Resources/bin/R CMD INSTALL proActiv StartedAt: 2025-02-03 16:41:10 -0500 (Mon, 03 Feb 2025) EndedAt: 2025-02-03 16:42:34 -0500 (Mon, 03 Feb 2025) EllapsedTime: 83.5 seconds RetCode: 0 Status: OK