Package: proActiv Version: 1.16.0 Command: /home/biocbuild/bbs-3.20-bioc/R/bin/R CMD INSTALL proActiv StartedAt: 2025-02-03 16:04:19 -0500 (Mon, 03 Feb 2025) EndedAt: 2025-02-03 16:05:05 -0500 (Mon, 03 Feb 2025) EllapsedTime: 45.5 seconds RetCode: 0 Status: OK