Package: proActiv Version: 1.16.0 Command: F:\biocbuild\bbs-3.20-bioc\R\bin\R.exe CMD INSTALL proActiv StartedAt: 2025-02-03 17:10:23 -0500 (Mon, 03 Feb 2025) EndedAt: 2025-02-03 17:11:26 -0500 (Mon, 03 Feb 2025) EllapsedTime: 63.7 seconds RetCode: 0 Status: OK