Package: proActiv Version: 1.16.0 Command: /home/biocbuild/R/R/bin/R CMD build --keep-empty-dirs --no-resave-data proActiv StartedAt: 2025-02-11 01:37:01 -0000 (Tue, 11 Feb 2025) EndedAt: 2025-02-11 01:38:18 -0000 (Tue, 11 Feb 2025) EllapsedTime: 77.0 seconds RetCode: 0 Status: OK PackageFile: proActiv_1.16.0.tar.gz PackageFileSize: 2.582 MiB