Package: proDA Version: 1.20.0 Command: /Library/Frameworks/R.framework/Resources/bin/R CMD build --keep-empty-dirs --no-resave-data proDA StartedAt: 2025-02-04 05:47:30 -0500 (Tue, 04 Feb 2025) EndedAt: 2025-02-04 05:49:06 -0500 (Tue, 04 Feb 2025) EllapsedTime: 95.8 seconds RetCode: 0 Status: OK PackageFile: proDA_1.20.0.tar.gz PackageFileSize: 1.251 MiB