Package: proDA Version: 1.20.0 Command: /Library/Frameworks/R.framework/Resources/bin/R CMD INSTALL proDA StartedAt: 2025-02-03 15:28:40 -0500 (Mon, 03 Feb 2025) EndedAt: 2025-02-03 15:29:03 -0500 (Mon, 03 Feb 2025) EllapsedTime: 23.0 seconds RetCode: 0 Status: OK